BEGIN:VCALENDAR
VERSION:2.0
PRODID:-//Take n Tora - ECPv6.6.0.2//NONSGML v1.0//EN
CALSCALE:GREGORIAN
METHOD:PUBLISH
X-WR-CALNAME:Take n Tora
X-ORIGINAL-URL:https://takentora.com
X-WR-CALDESC:Events for Take n Tora
REFRESH-INTERVAL;VALUE=DURATION:PT1H
X-Robots-Tag:noindex
X-PUBLISHED-TTL:PT1H
BEGIN:VTIMEZONE
TZID:UTC
BEGIN:STANDARD
TZOFFSETFROM:+0000
TZOFFSETTO:+0000
TZNAME:UTC
DTSTART:20260101T000000
END:STANDARD
END:VTIMEZONE
BEGIN:VEVENT
DTSTART;TZID=UTC:20260722T080000
DTEND;TZID=UTC:20260722T140000
DTSTAMP:20260421T085335
CREATED:20260318T180834Z
LAST-MODIFIED:20260318T180834Z
UID:562-1784707200-1784728800@takentora.com
SUMMARY:HR Strategy Meeting
DESCRIPTION:This exclusive roundtable empowers senior executives to collaboratively strategize on pressing challenges\, uncoveractionable insights\, and explore innovative solutions\, all within a private and influential peer network. \n\n\n\nHR c-level Program sessions meant to foster meaningful connections\, drive innovation\, and empower leaders to implement transformative solutions within their organizations. Through shared expertise and forward-thinking discussions\, our executive community remains at the forefront of shaping the future of work. \n\n\n\n\n\n\nJoining usPeer Title Example\n\n\n\nChief Human Resources Officers\n\n\n\nVP- Of Human Resources\n\n\n\nHuman Resources”- Director\n\n\n\nHead Of-HR\n\n\n\nHuman Resources Lead\n\n\n\netc….\n\n\n\n\n\n\n\nDepartment / Function\n\n\n\nHuman Resources \n\n\n\n \n\n\n\n Region\n\n\n\nEMEA (Europe\, the Middle East\, and Africa)\n\n\n\n\n\n\n\nBANT Quality\n\n\n\nPriority Investments\n\n\n\nLarge budgets\n\n\n\nReady to Engage with Solutions specialists\n\n\n\nDecision Makers\n\n\n\n\n\n\nOur recent clients
URL:https://takentora.com/event/hr-strategy-meeting/
CATEGORIES:Human Resources
END:VEVENT
END:VCALENDAR