BEGIN:VCALENDAR
VERSION:2.0
PRODID:-//Take n Tora - ECPv6.6.0.2//NONSGML v1.0//EN
CALSCALE:GREGORIAN
METHOD:PUBLISH
X-WR-CALNAME:Take n Tora
X-ORIGINAL-URL:https://takentora.com
X-WR-CALDESC:Events for Take n Tora
REFRESH-INTERVAL;VALUE=DURATION:PT1H
X-Robots-Tag:noindex
X-PUBLISHED-TTL:PT1H
BEGIN:VTIMEZONE
TZID:UTC
BEGIN:STANDARD
TZOFFSETFROM:+0000
TZOFFSETTO:+0000
TZNAME:UTC
DTSTART:20240101T000000
END:STANDARD
END:VTIMEZONE
BEGIN:VEVENT
DTSTART;TZID=UTC:20240925T080000
DTEND;TZID=UTC:20240926T170000
DTSTAMP:20260425T111938
CREATED:20240806T143835Z
LAST-MODIFIED:20240806T144937Z
UID:145-1727251200-1727370000@takentora.com
SUMMARY:Africa Renewables Investment Summit
DESCRIPTION:The Africa Renewables Investment Summit (ARIS) is a marketplace for renewable energy investment opportunities in Africa\, with a conference\, exhibition\, project pitching platform\, startup pitching platform and AI powered business matchmaking. ARIS seeks to help accelerate renewable energy investment in Africa by connecting investors with potential renewable energy project investment opportunities in Africa. \nAt ARIS\, key renewable energy stakeholders from across the globe connect with an aim to help catalyse investment for Africa. Attendees include African governments\, utilities\, regulators\, large electricity off-takers\, development finance institutions\, investment funds\, pension funds\, major banks\, asset managers\, venture capital firms\, independent power producers\, original equipment manufacturers\, project facilitators etc. \n[wpforms id=”148″ title=”true”]
URL:https://takentora.com/event/africa-renewables-investment-summit/
END:VEVENT
END:VCALENDAR